BEGIN:VCALENDAR
VERSION:2.0
PRODID:-//Schützengesellschaft Eichengrün Karlsdorf e.V. - ECPv6.15.20//NONSGML v1.0//EN
CALSCALE:GREGORIAN
METHOD:PUBLISH
X-ORIGINAL-URL:https://eichengruen-karlsdorf.de/egk2017
X-WR-CALDESC:Veranstaltungen für Schützengesellschaft Eichengrün Karlsdorf e.V.
REFRESH-INTERVAL;VALUE=DURATION:PT1H
X-Robots-Tag:noindex
X-PUBLISHED-TTL:PT1H
BEGIN:VTIMEZONE
TZID:Europe/Berlin
BEGIN:DAYLIGHT
TZOFFSETFROM:+0100
TZOFFSETTO:+0200
TZNAME:CEST
DTSTART:20240331T010000
END:DAYLIGHT
BEGIN:STANDARD
TZOFFSETFROM:+0200
TZOFFSETTO:+0100
TZNAME:CET
DTSTART:20241027T010000
END:STANDARD
BEGIN:DAYLIGHT
TZOFFSETFROM:+0100
TZOFFSETTO:+0200
TZNAME:CEST
DTSTART:20250330T010000
END:DAYLIGHT
BEGIN:STANDARD
TZOFFSETFROM:+0200
TZOFFSETTO:+0100
TZNAME:CET
DTSTART:20251026T010000
END:STANDARD
BEGIN:DAYLIGHT
TZOFFSETFROM:+0100
TZOFFSETTO:+0200
TZNAME:CEST
DTSTART:20260329T010000
END:DAYLIGHT
BEGIN:STANDARD
TZOFFSETFROM:+0200
TZOFFSETTO:+0100
TZNAME:CET
DTSTART:20261025T010000
END:STANDARD
END:VTIMEZONE
BEGIN:VEVENT
DTSTART;VALUE=DATE:20250411
DTEND;VALUE=DATE:20250413
DTSTAMP:20260423T152024
CREATED:20241223T191737Z
LAST-MODIFIED:20250218T225700Z
UID:1695-1744340400-1744426799@eichengruen-karlsdorf.de
SUMMARY:Start der Stüberlzeit
DESCRIPTION:
URL:https://eichengruen-karlsdorf.de/egk2017/event/stueberlzeit/
LOCATION:Bayern
CATEGORIES:Maibaum
ATTACH;FMTTYPE=image/jpeg:https://eichengruen-karlsdorf.de/egk2017/wp-content/uploads/2025/02/flyer-a6-rs-maibaum.v2.jpg
END:VEVENT
BEGIN:VEVENT
DTSTART;TZID=Europe/Berlin:20250411T160000
DTEND;TZID=Europe/Berlin:20250411T160000
DTSTAMP:20260423T152024
CREATED:20250218T224958Z
LAST-MODIFIED:20250409T072308Z
UID:1706-1744387200-1744387200@eichengruen-karlsdorf.de
SUMMARY:Da Bam kimmt und Stüberl-Opening!
DESCRIPTION:
URL:https://eichengruen-karlsdorf.de/egk2017/event/da-bam-kimmt-und-stueberl-opening/
LOCATION:Maibaumstüberl Karlsdorf\, Forststraße 4\, Karlsdorf\, Bayern\, 85659
CATEGORIES:Feste,Maibaum
ATTACH;FMTTYPE=image/png:https://eichengruen-karlsdorf.de/egk2017/wp-content/uploads/2025/02/11_04_25_Eroeffnung.png
END:VEVENT
END:VCALENDAR